BEGIN:VCALENDAR
VERSION:2.0
PRODID:-//Harry&#039;s Cider - ECPv6.15.20//NONSGML v1.0//EN
CALSCALE:GREGORIAN
METHOD:PUBLISH
X-WR-CALNAME:Harry&#039;s Cider
X-ORIGINAL-URL:https://harryscidercompany.com
X-WR-CALDESC:Events for Harry&#039;s Cider
REFRESH-INTERVAL;VALUE=DURATION:PT1H
X-Robots-Tag:noindex
X-PUBLISHED-TTL:PT1H
BEGIN:VTIMEZONE
TZID:UTC
BEGIN:STANDARD
TZOFFSETFROM:+0000
TZOFFSETTO:+0000
TZNAME:UTC
DTSTART:20240101T000000
END:STANDARD
END:VTIMEZONE
BEGIN:VEVENT
DTSTART;TZID=UTC:20251108T170000
DTEND;TZID=UTC:20251108T200000
DTSTAMP:20260420T165946
CREATED:20251016T110148Z
LAST-MODIFIED:20251016T110148Z
UID:14336-1762621200-1762632000@harryscidercompany.com
SUMMARY:Martock Fireworks
DESCRIPTION:Find us at Martock Fireworks night and warm yourself up with a delicious mulled cider
URL:https://harryscidercompany.com/event/martock-fireworks/
LOCATION:Martock Recreation Ground\, TA12 6JL
CATEGORIES:Seasonal Shows
ATTACH;FMTTYPE=image/jpeg:https://harryscidercompany.com/wp-content/uploads/2025/10/960x0.jpg
END:VEVENT
END:VCALENDAR