BEGIN:VCALENDAR
VERSION:2.0
PRODID:-//Harry&#039;s Cider - ECPv6.15.20//NONSGML v1.0//EN
CALSCALE:GREGORIAN
METHOD:PUBLISH
X-WR-CALNAME:Harry&#039;s Cider
X-ORIGINAL-URL:https://harryscidercompany.com
X-WR-CALDESC:Events for Harry&#039;s Cider
REFRESH-INTERVAL;VALUE=DURATION:PT1H
X-Robots-Tag:noindex
X-PUBLISHED-TTL:PT1H
BEGIN:VTIMEZONE
TZID:UTC
BEGIN:STANDARD
TZOFFSETFROM:+0000
TZOFFSETTO:+0000
TZNAME:UTC
DTSTART:20250101T000000
END:STANDARD
END:VTIMEZONE
BEGIN:VEVENT
DTSTART;TZID=UTC:20260710T160000
DTEND;TZID=UTC:20260710T220000
DTSTAMP:20260420T102351
CREATED:20260217T120657Z
LAST-MODIFIED:20260217T120657Z
UID:14952-1783699200-1783720800@harryscidercompany.com
SUMMARY:Pizza Night
DESCRIPTION:Wood-fired pizza from Ethic Street and live music from Temperence Two
URL:https://harryscidercompany.com/event/pizza-night-6/
LOCATION:Harry’s Cider Company\, Littlefield Farm\, Long Sutton\, TA10 9NS
CATEGORIES:Pizza Night
ATTACH;FMTTYPE=image/png:https://harryscidercompany.com/wp-content/uploads/2025/02/pizzanight.png
END:VEVENT
END:VCALENDAR