BEGIN:VCALENDAR
VERSION:2.0
PRODID:-//Harry&#039;s Cider - ECPv6.15.20//NONSGML v1.0//EN
CALSCALE:GREGORIAN
METHOD:PUBLISH
X-ORIGINAL-URL:https://harryscidercompany.com
X-WR-CALDESC:Events for Harry&#039;s Cider
REFRESH-INTERVAL;VALUE=DURATION:PT1H
X-Robots-Tag:noindex
X-PUBLISHED-TTL:PT1H
BEGIN:VTIMEZONE
TZID:UTC
BEGIN:STANDARD
TZOFFSETFROM:+0000
TZOFFSETTO:+0000
TZNAME:UTC
DTSTART:20250101T000000
END:STANDARD
END:VTIMEZONE
BEGIN:VEVENT
DTSTART;TZID=UTC:20260704T120000
DTEND;TZID=UTC:20260704T180000
DTSTAMP:20260420T120845
CREATED:20260217T115004Z
LAST-MODIFIED:20260217T115004Z
UID:14948-1783166400-1783188000@harryscidercompany.com
SUMMARY:Cider Saturday
DESCRIPTION:With smash burgers from Boigers and sea shanty music from Storm Force 10
URL:https://harryscidercompany.com/event/cider-saturday-9/
LOCATION:Harry’s Cider Company\, Littlefield Farm\, Long Sutton\, TA10 9NS
CATEGORIES:Cider Saturday
ATTACH;FMTTYPE=image/png:https://harryscidercompany.com/wp-content/uploads/2025/02/cidersaturday.png
END:VEVENT
BEGIN:VEVENT
DTSTART;TZID=UTC:20260718T120000
DTEND;TZID=UTC:20260718T180000
DTSTAMP:20260420T120845
CREATED:20260217T122015Z
LAST-MODIFIED:20260217T122015Z
UID:14956-1784376000-1784397600@harryscidercompany.com
SUMMARY:Cider Saturday
DESCRIPTION:With loaded fries from Soul Fries and fab music from Sundog Slide
URL:https://harryscidercompany.com/event/cider-saturday-10/
LOCATION:Harry’s Cider Company\, Littlefield Farm\, Long Sutton\, TA10 9NS
CATEGORIES:Cider Saturday
ATTACH;FMTTYPE=image/png:https://harryscidercompany.com/wp-content/uploads/2025/02/cidersaturday.png
END:VEVENT
END:VCALENDAR